BEGIN:VCALENDAR
VERSION:2.0
PRODID:-//Fiordland Firearms Club - ECPv5.3.0//NONSGML v1.0//EN
CALSCALE:GREGORIAN
METHOD:PUBLISH
X-WR-CALNAME:Fiordland Firearms Club
X-ORIGINAL-URL:https://ffc.org.nz
X-WR-CALDESC:Events for Fiordland Firearms Club
BEGIN:VTIMEZONE
TZID:Pacific/Auckland
BEGIN:STANDARD
TZOFFSETFROM:+1300
TZOFFSETTO:+1200
TZNAME:NZST
DTSTART:20200404T140000
END:STANDARD
BEGIN:DAYLIGHT
TZOFFSETFROM:+1200
TZOFFSETTO:+1300
TZNAME:NZDT
DTSTART:20200926T140000
END:DAYLIGHT
BEGIN:STANDARD
TZOFFSETFROM:+1300
TZOFFSETTO:+1200
TZNAME:NZST
DTSTART:20210403T140000
END:STANDARD
BEGIN:DAYLIGHT
TZOFFSETFROM:+1200
TZOFFSETTO:+1300
TZNAME:NZDT
DTSTART:20210925T140000
END:DAYLIGHT
END:VTIMEZONE
BEGIN:VEVENT
DTSTART;TZID=Pacific/Auckland:20201229T130000
DTEND;TZID=Pacific/Auckland:20201229T150000
DTSTAMP:20210122T134344
CREATED:20200925T052842Z
LAST-MODIFIED:20200925T052842Z
UID:1075-1609246800-1609254000@ffc.org.nz
SUMMARY:1pm Old Codger Tuesday
DESCRIPTION:All welcome!
URL:https://ffc.org.nz/?tribe_events=1pm-old-codger-tuesday-19
LOCATION:FFC Range\, Lynwood Road\, Te Anau\, Southland\, 9672\, New Zealand
CATEGORIES:Shoots
ORGANIZER;CN="FFC%20Secretary":MAILTO:secretary@ffc.org.nz
END:VEVENT
BEGIN:VEVENT
DTSTART;TZID=Pacific/Auckland:20210117T100000
DTEND;TZID=Pacific/Auckland:20210117T160000
DTSTAMP:20210122T134344
CREATED:20201213T085321Z
LAST-MODIFIED:20201213T085329Z
UID:1121-1610877600-1610899200@ffc.org.nz
SUMMARY:10am Gore Gun Boot Sale
DESCRIPTION:The Gore Pistol Club gunsale will be held Sunday 17th january 2021 at the riverdale community centre from 10am as per usual the last few times.   \nEntry fee $15 adults\, $5 kids\, no lunch this time.   \nFAL not required for entry.   \nSellers will be required to sight FALs and appropriate endorsements now.
URL:https://ffc.org.nz/?tribe_events=gore-gun-boot-sale
LOCATION:Riversdale Community Centre\, Main Street\, Riversdale
CATEGORIES:Group Events
ORGANIZER;CN="Derek%20Kooman":MAILTO:dkooman@fastmail.fm
END:VEVENT
END:VCALENDAR